BEGIN:VCALENDAR
VERSION:2.0
PRODID:-//Tukios.com/
BEGIN:VEVENT
UID:770547a5-2c6e-4e06-b404-829c3aaf0c64@www.mossstovallneal.com
DTSTAMP:20260420T045649Z
DTSTART:20260423T190000Z
DTEND:20260423T220000Z
SUMMARY:Viewing
DESCRIPTION:
URL:https://www.mossstovallneal.com/obituaries/carolyn-parks
LOCATION:Moss-Stovall-Neal Funeral Home 55 S. Alexander Street  Toccoa GA 
	30577
GEO:34.5750709;-83.3315129
END:VEVENT
END:VCALENDAR