BEGIN:VCALENDAR
VERSION:2.0
PRODID:-//Tukios.com/
BEGIN:VEVENT
UID:35c4a505-320a-4440-8ff2-feba644bf470@www.mossstovallneal.com
DTSTAMP:20260420T045334Z
DTSTART:20260424T170000Z
DTEND:20260424T180000Z
SUMMARY:Celebration of Life
DESCRIPTION:
URL:https://www.mossstovallneal.com/obituaries/carolyn-parks
LOCATION:Mt. Zion Baptist Church 115 W Whitman St  Toccoa GA 30577
GEO:34.5749163;-83.3348933
END:VEVENT
END:VCALENDAR